BEGIN:VCALENDAR
PRODID:168431-20240228124928@172.104.131.192
VERSION:2.0
CALSCALE:GREGORIAN
BEGIN:VEVENT
UID:9803f01810fc6a41a55429e05ae1f46b
DTSTAMP:20260422T091755Z
SUMMARY:Lederforum for kvinner i Molderegionen
DESCRIPTION:29. februar inviterer vi til årets første møte i Lederforum 
 for kvinner i Molderegionen i hyggelige omgivelser på Gildehallen.  Hvord
 an knekke koder for å ta større lederansvar er kveldens tema.
DTSTART;TZID=Europe/Oslo:20240229T183000
DTEND;TZID=Europe/Oslo:20240229T223000
LOCATION:Gildehallen\, Romsdalsmuseet
ORGANIZER;CN=Molde Næringsforum:mailto:post@moldenf.no
END:VEVENT
END:VCALENDAR
