BEGIN:VCALENDAR
PRODID:238232-20251017113311@172.104.131.192
VERSION:2.0
CALSCALE:GREGORIAN
BEGIN:VEVENT
UID:1a97db99806150efda668df73b4a3974
DTSTAMP:20260421T220706Z
SUMMARY:Eiendomskonferansen 2026
DESCRIPTION:
DTSTART;TZID=Europe/Oslo:20261105T083000
DTEND;TZID=Europe/Oslo:20261105T133000
LOCATION:Bjørnsonsalen\, Scandic Seilet
ORGANIZER;CN=Molde Næringsforum:mailto:post@moldenf.no
END:VEVENT
END:VCALENDAR
