BEGIN:VCALENDAR
PRODID:272310-20260420212235@172.104.131.192
VERSION:2.0
CALSCALE:GREGORIAN
BEGIN:VEVENT
UID:fa777542744589b10c3bc95fbb820258
DTSTAMP:20260421T115053Z
SUMMARY:Velkommen til Peiling på!
DESCRIPTION:I Peiling på vil du møte forskere i regionen som deler av sin
  forskning på et vis som gjør deg litt klokere.  Fra torsk til tare - Ha
 vet som matfat i fortid og framtid er tema på treffet den 21. april.
DTSTART;TZID=Europe/Oslo:20260421T190000
DTEND;TZID=Europe/Oslo:20260421T210000
LOCATION:Die Tankstelle
ORGANIZER;CN=Molde Næringsforum:mailto:post@moldenf.no
END:VEVENT
END:VCALENDAR
