BEGIN:VCALENDAR
PRODID:272496-20260422140144@172.104.131.192
VERSION:2.0
CALSCALE:GREGORIAN
BEGIN:VEVENT
UID:ff1fb50fd75b751116d52a0a3912a3b2
DTSTAMP:20260423T113134Z
SUMMARY:Frokostmøte: Talentutvikling i praksis
DESCRIPTION:8. mai inviterer The Assesment Company til frokostmøte om tale
 ntutvikling i praksis - fra intensjon til handling. De vil presentere det 
 faglige grunnlaget for talentutvikling. Deretter vil VARD dele sine erfari
 nger med utvikling av talentprogrammer.
DTSTART;TZID=Europe/Oslo:20260508T080000
DTEND;TZID=Europe/Oslo:20260508T100000
LOCATION:The Assessment\, Grand Fjære 22 C\, 5 etg.
ORGANIZER;CN=Molde Næringsforum:mailto:post@moldenf.no
END:VEVENT
END:VCALENDAR
