BEGIN:VCALENDAR
PRODID:272498-20260422222453@172.104.131.192
VERSION:2.0
CALSCALE:GREGORIAN
BEGIN:VEVENT
UID:cd05bb9a4c304c530e91341e687caa51
DTSTAMP:20260423T112137Z
SUMMARY:Frokostmøte - Bygg og anleggsbransjen
DESCRIPTION:I samarbeid med Norconsult inviterer vi til frokostmøte for by
 gg- og anleggsbransjen.
DTSTART;TZID=Europe/Oslo:20260902T080000
DTEND;TZID=Europe/Oslo:20260902T100000
LOCATION:TBA
ORGANIZER;CN=Molde Næringsforum:mailto:post@moldenf.no
END:VEVENT
END:VCALENDAR
