BEGIN:VCALENDAR
PRODID:272549-20260422224429@172.104.131.192
VERSION:2.0
CALSCALE:GREGORIAN
BEGIN:VEVENT
UID:7506c135fc22eaaa0c3a392ab214e160
DTSTAMP:20260423T111831Z
SUMMARY:HR-frokost
DESCRIPTION:Vi inviterer til HR-frokost i samarbeid med Øverbø Gjørtz.
DTSTART;TZID=Europe/Oslo:20260909T080000
DTEND;TZID=Europe/Oslo:20260909T100000
LOCATION:Øverbø Gjørtz sine lokaler\, Julsundvegen 4
ORGANIZER;CN=Molde Næringsforum:mailto:post@moldenf.no
END:VEVENT
END:VCALENDAR
